BEGIN:VCALENDAR
VERSION:2.0
PRODID:-//pretix//pretix.eu//
BEGIN:VTIMEZONE
TZID:Europe/Berlin
BEGIN:STANDARD
DTSTART:20001029T040000
RRULE:FREQ=YEARLY;BYDAY=-1SU;BYMONTH=10
TZNAME:CET
TZOFFSETFROM:+0200
TZOFFSETTO:+0100
END:STANDARD
BEGIN:DAYLIGHT
DTSTART:20000326T030000
RRULE:FREQ=YEARLY;BYDAY=-1SU;BYMONTH=3
TZNAME:CEST
TZOFFSETFROM:+0100
TZOFFSETTO:+0200
END:DAYLIGHT
END:VTIMEZONE
BEGIN:VEVENT
UID:pretix-breuninger-87vps-4111580@events.breuninger.com
DTSTART;TZID=Europe/Berlin:20240423T180000
DTEND;TZID=Europe/Berlin:20240423T193000
DESCRIPTION:Tickets: https://events.breuninger.com/87vps/4111580/\nVeransta
 lter: Breuninger
DTSTAMP:20260420T213324Z
LOCATION:Breuninger Stuttgart\, Sportabteilung\, Markstraße 1-3\, 70173 St
 uttgart
SUMMARY:Breuninger x On
END:VEVENT
END:VCALENDAR
