BEGIN:VCALENDAR
VERSION:2.0
PRODID:-//pretix//pretix.eu//
BEGIN:VTIMEZONE
TZID:Europe/Berlin
BEGIN:STANDARD
DTSTART:20001029T040000
RRULE:FREQ=YEARLY;BYDAY=-1SU;BYMONTH=10
TZNAME:CET
TZOFFSETFROM:+0200
TZOFFSETTO:+0100
END:STANDARD
BEGIN:DAYLIGHT
DTSTART:20000326T030000
RRULE:FREQ=YEARLY;BYDAY=-1SU;BYMONTH=3
TZNAME:CEST
TZOFFSETFROM:+0100
TZOFFSETTO:+0200
END:DAYLIGHT
END:VTIMEZONE
BEGIN:VEVENT
UID:pretix-breuninger-87vps-4168457@events.breuninger.com
DTSTART;TZID=Europe/Berlin:20240716T183000
DTEND;TZID=Europe/Berlin:20240716T200000
DESCRIPTION:Tickets: https://events.breuninger.com/87vps/4168457/\nVeransta
 lter: Breuninger
DTSTAMP:20260420T140026Z
LOCATION:Eduard's by Breuninger\, Marktstraße 1-3\, 70173 Stuttgart
SUMMARY:Switch on to turn off - Unser sportliches Afterwork
END:VEVENT
END:VCALENDAR
