BEGIN:VCALENDAR
VERSION:2.0
PRODID:-//pretix//pretix.eu//
BEGIN:VTIMEZONE
TZID:Europe/Berlin
BEGIN:STANDARD
DTSTART:20001029T040000
RRULE:FREQ=YEARLY;BYDAY=-1SU;BYMONTH=10
TZNAME:CET
TZOFFSETFROM:+0200
TZOFFSETTO:+0100
END:STANDARD
BEGIN:DAYLIGHT
DTSTART:20000326T030000
RRULE:FREQ=YEARLY;BYDAY=-1SU;BYMONTH=3
TZNAME:CEST
TZOFFSETFROM:+0100
TZOFFSETTO:+0200
END:DAYLIGHT
END:VTIMEZONE
BEGIN:VEVENT
UID:pretix-breuninger-8dz99-4150444@events.breuninger.com
DTSTART;TZID=Europe/Berlin:20240803T090000
DTEND;TZID=Europe/Berlin:20240803T120000
DESCRIPTION:Tickets: https://events.breuninger.com/8dz99/4150444/\nEinlass:
  03.08.2024 08:45\nVeranstalter: Breuninger
DTSTAMP:20260420T121722Z
LOCATION:Breuninger Ludwigsburg\, Frish Dachterrasse\, Heinkelstraße 1\, 7
 1634 Ludwigsburg
SUMMARY:Rooftop Yoga mit vegetarischem Sektfrühstück in Ludwigsburg
END:VEVENT
END:VCALENDAR
