BEGIN:VCALENDAR
VERSION:2.0
PRODID:-//pretix//pretix.eu//
BEGIN:VTIMEZONE
TZID:Europe/Berlin
BEGIN:STANDARD
DTSTART:20001029T040000
RRULE:FREQ=YEARLY;BYDAY=-1SU;BYMONTH=10
TZNAME:CET
TZOFFSETFROM:+0200
TZOFFSETTO:+0100
END:STANDARD
BEGIN:DAYLIGHT
DTSTART:20000326T030000
RRULE:FREQ=YEARLY;BYDAY=-1SU;BYMONTH=3
TZNAME:CEST
TZOFFSETFROM:+0100
TZOFFSETTO:+0200
END:DAYLIGHT
END:VTIMEZONE
BEGIN:VEVENT
UID:pretix-breuninger-mgfmx-4102770@events.breuninger.com
DTSTART;TZID=Europe/Berlin:20240323T110000
DTEND;TZID=Europe/Berlin:20240323T180000
DESCRIPTION:Tickets: https://events.breuninger.com/mgfmx/4102770/\nVeransta
 lter: Breuninger
DTSTAMP:20260420T213324Z
LOCATION:Breuninger Reutlingen\, Wilhelmstr. 75-83\, 72764 Reutlingen
SUMMARY:Ladies Spring Opening im Breuninger Haus in Reutlingen
END:VEVENT
END:VCALENDAR
